BEGIN:VCALENDAR
VERSION:2.0
PRODID:-//Percolator - ECPv6.15.20//NONSGML v1.0//EN
CALSCALE:GREGORIAN
METHOD:PUBLISH
X-ORIGINAL-URL:https://percolatorspace.com
X-WR-CALDESC:Events for Percolator
REFRESH-INTERVAL;VALUE=DURATION:PT1H
X-Robots-Tag:noindex
X-PUBLISHED-TTL:PT1H
BEGIN:VTIMEZONE
TZID:America/New_York
BEGIN:DAYLIGHT
TZOFFSETFROM:-0500
TZOFFSETTO:-0400
TZNAME:EDT
DTSTART:20180311T070000
END:DAYLIGHT
BEGIN:STANDARD
TZOFFSETFROM:-0400
TZOFFSETTO:-0500
TZNAME:EST
DTSTART:20181104T060000
END:STANDARD
BEGIN:DAYLIGHT
TZOFFSETFROM:-0500
TZOFFSETTO:-0400
TZNAME:EDT
DTSTART:20190310T070000
END:DAYLIGHT
BEGIN:STANDARD
TZOFFSETFROM:-0400
TZOFFSETTO:-0500
TZNAME:EST
DTSTART:20191103T060000
END:STANDARD
BEGIN:DAYLIGHT
TZOFFSETFROM:-0500
TZOFFSETTO:-0400
TZNAME:EDT
DTSTART:20200308T070000
END:DAYLIGHT
BEGIN:STANDARD
TZOFFSETFROM:-0400
TZOFFSETTO:-0500
TZNAME:EST
DTSTART:20201101T060000
END:STANDARD
END:VTIMEZONE
BEGIN:VEVENT
DTSTART;TZID=America/New_York:20190228T180000
DTEND;TZID=America/New_York:20190228T200000
DTSTAMP:20260423T200738
CREATED:20190215T153342Z
LAST-MODIFIED:20190215T154442Z
UID:518-1551376800-1551384000@percolatorspace.com
SUMMARY:Percolator Film Collective Monthly Meeting
DESCRIPTION:Percolator Film Collective meets on the last Thursday of each month at the Percolator Ford Campus.
URL:https://percolatorspace.com/event/percolator-film-collective-monthly-meeting/
LOCATION:Percolator Ford Campus\, 435 Monticello Ave\, Norfolk\, VA\, United States
CATEGORIES:Film,Percolator Film Collective
ATTACH;FMTTYPE=image/png:https://percolatorspace.com/wp-content/uploads/2019/02/PFCLogo_Profile-Pic_Official.png
ORGANIZER;CN="Percolator":MAILTO:info@percolatorspace.com
END:VEVENT
BEGIN:VEVENT
DTSTART;TZID=America/New_York:20190224T180000
DTEND;TZID=America/New_York:20190224T235900
DTSTAMP:20260423T200738
CREATED:20190215T152835Z
LAST-MODIFIED:20190215T152938Z
UID:515-1551031200-1551052740@percolatorspace.com
SUMMARY:Oscar Viewing with the Percolator Film Collective
DESCRIPTION:
URL:https://percolatorspace.com/event/oscar-viewing/
LOCATION:Percolator Ford Campus\, 435 Monticello Ave\, Norfolk\, VA\, United States
CATEGORIES:Film,Percolator Film Collective
ATTACH;FMTTYPE=image/png:https://percolatorspace.com/wp-content/uploads/2019/02/PFCLogo_Profile-Pic_Official.png
ORGANIZER;CN="Percolator Film Collective":MAILTO:info@percolatorspace.com
END:VEVENT
END:VCALENDAR