BEGIN:VCALENDAR
VERSION:2.0
PRODID:-//Percolator - ECPv6.15.20//NONSGML v1.0//EN
CALSCALE:GREGORIAN
METHOD:PUBLISH
X-ORIGINAL-URL:https://percolatorspace.com
X-WR-CALDESC:Events for Percolator
REFRESH-INTERVAL;VALUE=DURATION:PT1H
X-Robots-Tag:noindex
X-PUBLISHED-TTL:PT1H
BEGIN:VTIMEZONE
TZID:America/New_York
BEGIN:DAYLIGHT
TZOFFSETFROM:-0500
TZOFFSETTO:-0400
TZNAME:EDT
DTSTART:20170312T070000
END:DAYLIGHT
BEGIN:STANDARD
TZOFFSETFROM:-0400
TZOFFSETTO:-0500
TZNAME:EST
DTSTART:20171105T060000
END:STANDARD
BEGIN:DAYLIGHT
TZOFFSETFROM:-0500
TZOFFSETTO:-0400
TZNAME:EDT
DTSTART:20180311T070000
END:DAYLIGHT
BEGIN:STANDARD
TZOFFSETFROM:-0400
TZOFFSETTO:-0500
TZNAME:EST
DTSTART:20181104T060000
END:STANDARD
BEGIN:DAYLIGHT
TZOFFSETFROM:-0500
TZOFFSETTO:-0400
TZNAME:EDT
DTSTART:20190310T070000
END:DAYLIGHT
BEGIN:STANDARD
TZOFFSETFROM:-0400
TZOFFSETTO:-0500
TZNAME:EST
DTSTART:20191103T060000
END:STANDARD
END:VTIMEZONE
BEGIN:VEVENT
DTSTART;TZID=America/New_York:20181024T163000
DTEND;TZID=America/New_York:20181024T180000
DTSTAMP:20260424T073555
CREATED:20180926T154623Z
LAST-MODIFIED:20181010T171543Z
UID:379-1540398600-1540404000@percolatorspace.com
SUMMARY:Percolator Monthly Member Meetup
DESCRIPTION:Each month\, Percolator members\, prospective members\, and community partners come together to meet\, mingle\, and collaborate.  Member updates and success stories are also announced\, along with new opportunities.
URL:https://percolatorspace.com/event/percolator-monthly-member-meetup/
LOCATION:Granby Theater\, 421 Granby St\, Norfolk\, VA\, 23510\, United States
CATEGORIES:Art,Entrepreneurship,Fashion,Film,Food and Beverage,Games,Music,Tech,Wellness
ATTACH;FMTTYPE=image/png:https://percolatorspace.com/wp-content/uploads/2018/09/percolator.png
ORGANIZER;CN="Percolator":MAILTO:info@percolatorspace.com
END:VEVENT
END:VCALENDAR